BEGIN:VCALENDAR
VERSION:2.0
PRODID:-//Brothers of Tyre - ECPv6.15.20//NONSGML v1.0//EN
CALSCALE:GREGORIAN
METHOD:PUBLISH
X-ORIGINAL-URL:https://brothersoftyre.org
X-WR-CALDESC:Events for Brothers of Tyre
REFRESH-INTERVAL;VALUE=DURATION:PT1H
X-Robots-Tag:noindex
X-PUBLISHED-TTL:PT1H
BEGIN:VTIMEZONE
TZID:America/New_York
BEGIN:DAYLIGHT
TZOFFSETFROM:-0500
TZOFFSETTO:-0400
TZNAME:EDT
DTSTART:20240310T070000
END:DAYLIGHT
BEGIN:STANDARD
TZOFFSETFROM:-0400
TZOFFSETTO:-0500
TZNAME:EST
DTSTART:20241103T060000
END:STANDARD
BEGIN:DAYLIGHT
TZOFFSETFROM:-0500
TZOFFSETTO:-0400
TZNAME:EDT
DTSTART:20250309T070000
END:DAYLIGHT
BEGIN:STANDARD
TZOFFSETFROM:-0400
TZOFFSETTO:-0500
TZNAME:EST
DTSTART:20251102T060000
END:STANDARD
BEGIN:DAYLIGHT
TZOFFSETFROM:-0500
TZOFFSETTO:-0400
TZNAME:EDT
DTSTART:20260308T070000
END:DAYLIGHT
BEGIN:STANDARD
TZOFFSETFROM:-0400
TZOFFSETTO:-0500
TZNAME:EST
DTSTART:20261101T060000
END:STANDARD
END:VTIMEZONE
BEGIN:VEVENT
DTSTART;TZID=America/New_York:20250719T080000
DTEND;TZID=America/New_York:20250721T170000
DTSTAMP:20260421T064153
CREATED:20250309T232446Z
LAST-MODIFIED:20250309T233722Z
UID:214-1752912000-1753117200@brothersoftyre.org
SUMMARY:Buoy to Buoy Ride
DESCRIPTION:We’re embarking on a thrilling three-day journey from the southernmost point in the continental US to the northernmost point. By the end of it\, we can expect our seats to be quite sore! \nWe are asking for your support by purchasing tickets or donating directly at PayPal.me \nPlanned Itinerary:   . \nDay One: \nDay Two: \nDay Three:
URL:https://brothersoftyre.org/event/buoy-to-buoy-ride/
LOCATION:Southermost Point\, Whitehead Street and South Street\, Key West\, FL\, 33040\, United States
CATEGORIES:Rides
ATTACH;FMTTYPE=image/webp:https://brothersoftyre.org/wp-content/uploads/2025/02/North-South-Most-Points.webp
END:VEVENT
BEGIN:VEVENT
DTSTART;TZID=America/New_York:20250608T113000
DTEND;TZID=America/New_York:20250608T143000
DTSTAMP:20260421T064153
CREATED:20250403T224118Z
LAST-MODIFIED:20250403T225928Z
UID:310-1749382200-1749393000@brothersoftyre.org
SUMMARY:Meet and Greet the Riders
DESCRIPTION:Meet the team and learn more about the Buoy to Buoy ride.  \nA free lunch for all at Bert Barracuda Harley Davidson. \nLearn about the ride \nTips for long rides \nQ&A Session
URL:https://brothersoftyre.org/event/meet-and-greet-the-riders/
LOCATION:Berts Barracuda Harely Davidson\, 10525 49th St N\, Clearwater\, FL\, 33762\, United States
CATEGORIES:Fundraiser
ATTACH;FMTTYPE=image/jpeg:https://brothersoftyre.org/wp-content/uploads/2025/04/Buoy-to-Buoy-Flyer.jpeg
END:VEVENT
BEGIN:VEVENT
DTSTART;TZID=America/New_York:20250412T090000
DTEND;TZID=America/New_York:20250412T103000
DTSTAMP:20260421T064153
CREATED:20250310T004822Z
LAST-MODIFIED:20250310T004822Z
UID:242-1744448400-1744453800@brothersoftyre.org
SUMMARY:April Chapter Meeting
DESCRIPTION:Our scheduled Monthly meeting will be held at Urkel’s place. 
URL:https://brothersoftyre.org/event/april-chapter-meeting/
LOCATION:FL
CATEGORIES:Meeting
END:VEVENT
BEGIN:VEVENT
DTSTART;TZID=America/New_York:20250329T070000
DTEND;TZID=America/New_York:20250329T170000
DTSTAMP:20260421T064153
CREATED:20250310T004455Z
LAST-MODIFIED:20250310T004913Z
UID:237-1743231600-1743267600@brothersoftyre.org
SUMMARY:Buoy to Buoy Training Ride
DESCRIPTION:One of our training rides for the Buoy to Buoy ride in July. Riding to Joanie’s Crab Café.
URL:https://brothersoftyre.org/event/buoy-to-buoy-training-ride/
LOCATION:Joanie’s Crab Shack\, 39395 Tamiami Trl E\, Ochopee\, FL\, 34141\, United States
ATTACH;FMTTYPE=image/jpeg:https://brothersoftyre.org/wp-content/uploads/2025/03/Joanies-Crab-Cafe.jpg
END:VEVENT
BEGIN:VEVENT
DTSTART;TZID=America/New_York:20250316T080000
DTEND;TZID=America/New_York:20250316T160000
DTSTAMP:20260421T064153
CREATED:20250309T223748Z
LAST-MODIFIED:20250310T010443Z
UID:176-1742112000-1742140800@brothersoftyre.org
SUMMARY:Chapter Meeting - Ride to Black Pearl
DESCRIPTION:Gather at RaceTrac @ 6005 FL-70\, Bradenton\, FL 34203  \nKSU @ 9am to ride to Bert’s Black Pearl in Ft. Myers for the meeting.
URL:https://brothersoftyre.org/event/bot-monthly-meeting/
LOCATION:Speedway on SR70\, 8604 SR70\, Bradenton\, FL\, FL\, 34202\, United States
CATEGORIES:Meeting
ATTACH;FMTTYPE=image/png:https://brothersoftyre.org/wp-content/uploads/2025/03/bertsblackpearl-logo.png
END:VEVENT
END:VCALENDAR